BEGIN:VCALENDAR
VERSION:2.0
PRODID:SchoolNow
CALSCALE:GREGORIAN
BEGIN:VEVENT
UID:68aa73a4-9fbb-11f0-9e72-0e1d0a794d81
DTSTAMP:20251002T181251Z
SUMMARY:Sausage Muffin\, or cold Cereal\, Juice\, Banana Chips\, Milk
URL;VALUE=URI:https://www.ronank12.edu/departments/food-service/calendar/86
 87733/sausage-muffin-or-cold-cereal-juice-banana-chips-milk
DTSTART:20251024T140000Z
DTEND:20251024T143000Z
END:VEVENT
END:VCALENDAR
