BEGIN:VCALENDAR
VERSION:2.0
PRODID:SchoolNow
CALSCALE:GREGORIAN
BEGIN:VEVENT
UID:68aa7598-9fbb-11f0-a857-0e1d0a794d81
DTSTAMP:20251002T181251Z
SUMMARY:Teriyaki Beef Bites\, Tater Tots\, Celery Sticks\, Mixed Fruit\, Co
 okie\, Milk
URL;VALUE=URI:https://www.ronank12.edu/departments/food-service/calendar/86
 87734/teriyaki-beef-bites-tater-tots-celery-sticks-mixed-fruit-cookie-milk
DTSTART:20251024T163000Z
DTEND:20251024T183000Z
END:VEVENT
END:VCALENDAR
