BEGIN:VCALENDAR
VERSION:2.0
PRODID:SchoolNow
CALSCALE:GREGORIAN
BEGIN:VEVENT
UID:68aa77f0-9fbb-11f0-8d87-0e1d0a794d81
DTSTAMP:20251002T181251Z
SUMMARY:Chocolate Muffin\, Link Sausage\, Juice\, Craisins\, Milk
URL;VALUE=URI:https://www.ronank12.edu/departments/food-service/calendar/86
 87735/chocolate-muffin-link-sausage-juice-craisins-milk
DTSTART:20251025T140000Z
DTEND:20251025T143000Z
END:VEVENT
END:VCALENDAR
