BEGIN:VCALENDAR
VERSION:2.0
PRODID:SchoolNow
CALSCALE:GREGORIAN
BEGIN:VEVENT
UID:68aa7a34-9fbb-11f0-b0d8-0e1d0a794d81
DTSTAMP:20251023T201906Z
SUMMARY:Chicken Quesadillas\, Tossed Salad\, Pears\, Garlic Roll\, Milk
URL;VALUE=URI:https://www.ronank12.edu/departments/food-service/calendar/86
 87736/beef-lasagna-tossed-salad-pears-garlic-roll-milk
DTSTART:20251025T163000Z
DTEND:20251025T183000Z
END:VEVENT
END:VCALENDAR
