BEGIN:VCALENDAR
VERSION:2.0
PRODID:SchoolNow
CALSCALE:GREGORIAN
BEGIN:VEVENT
UID:68aa7cb4-9fbb-11f0-9128-0e1d0a794d81
DTSTAMP:20251002T181251Z
SUMMARY:Pancakes\, Pears\,Milk
URL;VALUE=URI:https://www.ronank12.edu/departments/food-service/calendar/86
 87737/pancakes-pears-milk
DTSTART:20251028T140000Z
DTEND:20251028T143000Z
END:VEVENT
END:VCALENDAR
