BEGIN:VCALENDAR
VERSION:2.0
PRODID:SchoolNow
CALSCALE:GREGORIAN
BEGIN:VEVENT
UID:68aa839e-9fbb-11f0-8451-0e1d0a794d81
DTSTAMP:20251002T181251Z
SUMMARY:Chicken Patty Sandwich\, Tater Tots\, Lettuce\, Apple Slices\, Milk
URL;VALUE=URI:https://www.ronank12.edu/departments/food-service/calendar/86
 87740/chicken-patty-sandwich-tater-tots-lettuce-apple-slices-milk
DTSTART:20251029T163000Z
DTEND:20251029T183000Z
END:VEVENT
END:VCALENDAR
