BEGIN:VCALENDAR
VERSION:2.0
PRODID:SchoolNow
CALSCALE:GREGORIAN
BEGIN:VEVENT
UID:68aa85a6-9fbb-11f0-908d-0e1d0a794d81
DTSTAMP:20251002T181251Z
SUMMARY:Maple Bar\, String Cheese\, Juice\, Banana Chips\, Milk
URL;VALUE=URI:https://www.ronank12.edu/departments/food-service/calendar/86
 87741/maple-bar-string-cheese-juice-banana-chips-milk
DTSTART:20251030T140000Z
DTEND:20251030T143000Z
END:VEVENT
END:VCALENDAR
