BEGIN:VCALENDAR
VERSION:2.0
PRODID:SchoolNow
CALSCALE:GREGORIAN
BEGIN:VEVENT
UID:68aa87d6-9fbb-11f0-8298-0e1d0a794d81
DTSTAMP:20251002T181251Z
SUMMARY:Beef Chili\, Crackers\, Baby Carrots\, Banana\, Cinnamon Bun\, Milk
URL;VALUE=URI:https://www.ronank12.edu/departments/food-service/calendar/86
 87742/beef-chili-crackers-baby-carrots-banana-cinnamon-bun-milk
DTSTART:20251030T163000Z
DTEND:20251030T183000Z
END:VEVENT
END:VCALENDAR
