BEGIN:VCALENDAR
VERSION:2.0
PRODID:SchoolNow
CALSCALE:GREGORIAN
BEGIN:VEVENT
UID:68aa8a38-9fbb-11f0-8cac-0e1d0a794d81
DTSTAMP:20251002T181251Z
SUMMARY:Halloween Breakfast Pizza\, Applesauce\, Milk
URL;VALUE=URI:https://www.ronank12.edu/departments/food-service/calendar/86
 87743/halloween-breakfast-pizza-applesauce-milk
DTSTART:20251031T140000Z
DTEND:20251031T143000Z
END:VEVENT
END:VCALENDAR
