BEGIN:VCALENDAR
VERSION:2.0
PRODID:SchoolNow
CALSCALE:GREGORIAN
BEGIN:VEVENT
UID:68aa8c68-9fbb-11f0-8704-0e1d0a794d81
DTSTAMP:20251002T181251Z
SUMMARY:Halloween\, Cheesy Beef Pasta\, Salad\, Mandarin Oranges\, Garlic R
 olls\, Milk
URL;VALUE=URI:https://www.ronank12.edu/departments/food-service/calendar/86
 87744/halloween-cheesy-beef-pasta-salad-mandarin-oranges-garlic-rolls-milk
DTSTART:20251031T163000Z
DTEND:20251031T183000Z
END:VEVENT
END:VCALENDAR
