BEGIN:VCALENDAR
VERSION:2.0
PRODID:SchoolNow
CALSCALE:GREGORIAN
BEGIN:VEVENT
UID:581c5444-b857-11f0-bebc-0a58a9feac02
DTSTAMP:20251103T014932Z
SUMMARY:Breakfast: Cold Cereal\, Fruit & Grain Bar\, Juice\, Craisins\, Mil
 k
URL;VALUE=URI:https://www.ronank12.edu/departments/food-service/calendar/87
 70129/breakfast-cold-cereal-fruit-grain-bar-juice-craisins-milk
DTSTART:20251103T150000Z
DTEND:20251103T153000Z
END:VEVENT
END:VCALENDAR
