BEGIN:VCALENDAR
VERSION:2.0
PRODID:SchoolNow
CALSCALE:GREGORIAN
BEGIN:VEVENT
UID:b165459c-b857-11f0-93e6-0ed803c557bd
DTSTAMP:20251103T015202Z
SUMMARY:Lunch: Elem.\; Pepperoni Ripper MS/HS: Calzone\, Tossed Salad\, cuc
 umbers\, Pears\, Milk
URL;VALUE=URI:https://www.ronank12.edu/departments/food-service/calendar/87
 70130/lunch-elem-pepperoni-ripper-ms-hs-calzone-tossed-salad-cucumbers-pea
 rs-milk
DTSTART:20251103T173000Z
DTEND:20251103T193000Z
END:VEVENT
END:VCALENDAR
