BEGIN:VCALENDAR
VERSION:2.0
PRODID:SchoolNow
CALSCALE:GREGORIAN
BEGIN:VEVENT
UID:eabb5976-b857-11f0-add5-0a58a9feac02
DTSTAMP:20251103T015338Z
SUMMARY:Lunch: Breaded Steak\, Mashed Potatoes\, Country Gravy\, Pea Salad\
 , Peaches\, Roll\, Milk
URL;VALUE=URI:https://www.ronank12.edu/departments/food-service/calendar/87
 70131/lunch-breaded-steak-mashed-potatoes-country-gravy-pea-salad-peaches-
 roll-milk
DTSTART:20251104T173000Z
DTEND:20251104T193000Z
END:VEVENT
END:VCALENDAR
