BEGIN:VCALENDAR
VERSION:2.0
PRODID:SchoolNow
CALSCALE:GREGORIAN
BEGIN:VEVENT
UID:1441ec1a-b858-11f0-9099-0a58a9feac02
DTSTAMP:20251103T015448Z
SUMMARY:Breakfast: Strawberry Bagel\, Apple Slices\, Milk
URL;VALUE=URI:https://www.ronank12.edu/departments/food-service/calendar/87
 70132/breakfast-strawberry-bagel-apple-slices-milk
DTSTART:20251104T150000Z
DTEND:20251104T153000Z
END:VEVENT
END:VCALENDAR
