BEGIN:VCALENDAR
VERSION:2.0
PRODID:SchoolNow
CALSCALE:GREGORIAN
BEGIN:VEVENT
UID:6010380e-b858-11f0-9cdc-0a58a9feac02
DTSTAMP:20251103T015655Z
SUMMARY:Breakfast: Biscuits & Gravy\, Sausage Gravy\, Pears\, Milk
URL;VALUE=URI:https://www.ronank12.edu/departments/food-service/calendar/87
 70133/breakfast-biscuits-gravy-sausage-gravy-pears-milk
DTSTART:20251105T150000Z
DTEND:20251105T153000Z
END:VEVENT
END:VCALENDAR
