BEGIN:VCALENDAR
VERSION:2.0
PRODID:SchoolNow
CALSCALE:GREGORIAN
BEGIN:VEVENT
UID:9f6ac7c6-b858-11f0-a0ae-0a58a9feac02
DTSTAMP:20251103T015841Z
SUMMARY:Breakfast: Sausage\, Muffin\, or Cereal\, Juice\, Banana\, Chips\, 
 Milk
URL;VALUE=URI:https://www.ronank12.edu/departments/food-service/calendar/87
 70134/breakfast-sausage-muffin-or-cereal-juice-banana-chips-milk
DTSTART:20251106T150000Z
DTEND:20251106T153000Z
END:VEVENT
END:VCALENDAR
