BEGIN:VCALENDAR
VERSION:2.0
PRODID:SchoolNow
CALSCALE:GREGORIAN
BEGIN:VEVENT
UID:c7f3aca8-b858-11f0-ad16-0a58a9feac02
DTSTAMP:20251103T015949Z
SUMMARY:Breakfast: Pancakes\, Applesauce\, Milk
URL;VALUE=URI:https://www.ronank12.edu/departments/food-service/calendar/87
 70135/breakfast-pancakes-applesauce-milk
DTSTART:20251107T150000Z
DTEND:20251107T153000Z
END:VEVENT
END:VCALENDAR
