BEGIN:VCALENDAR
VERSION:2.0
PRODID:SchoolNow
CALSCALE:GREGORIAN
BEGIN:VEVENT
UID:0e74aab0-b859-11f0-bfb7-0a58a9feac02
DTSTAMP:20251103T020148Z
SUMMARY:Breakfast: Blueberry Muffins\, Sausage Links\, Juice\, Craisins\, M
 ilk
URL;VALUE=URI:https://www.ronank12.edu/departments/food-service/calendar/87
 70136/breakfast-blueberry-muffins-sausage-links-juice-craisins-milk
DTSTART:20251110T150000Z
DTEND:20251110T153000Z
END:VEVENT
END:VCALENDAR
