BEGIN:VCALENDAR
VERSION:2.0
PRODID:SchoolNow
CALSCALE:GREGORIAN
BEGIN:VEVENT
UID:2eb649a0-b859-11f0-b650-0a58a9feac02
DTSTAMP:20251103T020242Z
SUMMARY:Breakfast: Pancake sandwich\, Peaches\, Milk
URL;VALUE=URI:https://www.ronank12.edu/departments/food-service/calendar/87
 70137/breakfast-pancake-sandwich-peaches-milk
DTSTART:20251111T150000Z
DTEND:20251111T153000Z
END:VEVENT
END:VCALENDAR
