BEGIN:VCALENDAR
VERSION:2.0
PRODID:SchoolNow
CALSCALE:GREGORIAN
BEGIN:VEVENT
UID:5192df7e-b859-11f0-94bd-0a58a9feac02
DTSTAMP:20251103T024210Z
SUMMARY:Breakfast: Scrambled Eggs\, Toast\, Applesauce\, Milk
URL;VALUE=URI:https://www.ronank12.edu/departments/food-service/calendar/87
 70138/scrambled-eggs-toast-applesauce-milk
DTSTART:20251112T150000Z
DTEND:20251112T153000Z
END:VEVENT
END:VCALENDAR
