BEGIN:VCALENDAR
VERSION:2.0
PRODID:SchoolNow
CALSCALE:GREGORIAN
BEGIN:VEVENT
UID:734f163c-b859-11f0-9837-0a58a9feac02
DTSTAMP:20251103T020437Z
SUMMARY:Breakfast: Cinnamon Rolls\, Pears\, Milk
URL;VALUE=URI:https://www.ronank12.edu/departments/food-service/calendar/87
 70139/breakfast-cinnamon-rolls-pears-milk
DTSTART:20251113T150000Z
DTEND:20251113T153000Z
END:VEVENT
END:VCALENDAR
