BEGIN:VCALENDAR
VERSION:2.0
PRODID:SchoolNow
CALSCALE:GREGORIAN
BEGIN:VEVENT
UID:cf6827ec-b859-11f0-9acf-02231b95ae21
DTSTAMP:20251103T020959Z
SUMMARY:No School: Parent Teachers Conference
URL;VALUE=URI:https://www.ronank12.edu/departments/food-service/calendar/87
 70140/no-school-parent-teachers-conference
DTSTART;VALUE=DATE:20251114
DTEND;VALUE=DATE:20251115
END:VEVENT
END:VCALENDAR
