BEGIN:VCALENDAR
VERSION:2.0
PRODID:SchoolNow
CALSCALE:GREGORIAN
BEGIN:VEVENT
UID:16491f40-b85a-11f0-bb20-02231b95ae21
DTSTAMP:20251103T020910Z
SUMMARY:Breakfast: Cold Cereal\, Fruit & Grain Bar\, Juice\, Craisins\, Mil
 k
URL;VALUE=URI:https://www.ronank12.edu/departments/food-service/calendar/87
 70141/breakfast-cold-cereal-fruit-grain-bar-juice-craisins-milk
DTSTART:20251117T150000Z
DTEND:20251117T153000Z
END:VEVENT
END:VCALENDAR
