BEGIN:VCALENDAR
VERSION:2.0
PRODID:SchoolNow
CALSCALE:GREGORIAN
BEGIN:VEVENT
UID:54253074-b85a-11f0-b28b-02231b95ae21
DTSTAMP:20251103T021054Z
SUMMARY:Breakfast: Strawberry Bagel\, Apple Slices\, Milk
URL;VALUE=URI:https://www.ronank12.edu/departments/food-service/calendar/87
 70142/breakfast-strawberry-bagel-apple-slices-milk
DTSTART:20251118T150000Z
DTEND:20251118T153000Z
END:VEVENT
END:VCALENDAR
