BEGIN:VCALENDAR
VERSION:2.0
PRODID:SchoolNow
CALSCALE:GREGORIAN
BEGIN:VEVENT
UID:79ac1e3e-b85a-11f0-97eb-0a58a9feac02
DTSTAMP:20251103T021157Z
SUMMARY:Breakfast: Biscuits & Gravy\, Pears\, Milk
URL;VALUE=URI:https://www.ronank12.edu/departments/food-service/calendar/87
 70143/breakfast-biscuits-gravy-pears-milk
DTSTART:20251119T150000Z
DTEND:20251119T153000Z
END:VEVENT
END:VCALENDAR
