BEGIN:VCALENDAR
VERSION:2.0
PRODID:SchoolNow
CALSCALE:GREGORIAN
BEGIN:VEVENT
UID:9d8a0fe6-b85a-11f0-a498-0afff3d351ff
DTSTAMP:20251103T021257Z
SUMMARY:Breakfast: Sausage Muffin or Cold Cereal\, Juice\, Banana\, Chips\,
  Milk
URL;VALUE=URI:https://www.ronank12.edu/departments/food-service/calendar/87
 70144/breakfast-sausage-muffin-or-cold-cereal-juice-banana-chips-milk
DTSTART:20251120T150000Z
DTEND:20251120T153000Z
END:VEVENT
END:VCALENDAR
