BEGIN:VCALENDAR
VERSION:2.0
PRODID:SchoolNow
CALSCALE:GREGORIAN
BEGIN:VEVENT
UID:bfc54b5c-b85a-11f0-8495-02234586cfdd
DTSTAMP:20251103T021355Z
SUMMARY:Breakfast: Cheese Omelet\, Toast\, Apple Slices\, Milk
URL;VALUE=URI:https://www.ronank12.edu/departments/food-service/calendar/87
 70145/breakfast-cheese-omelet-toast-apple-slices-milk
DTSTART:20251121T150000Z
DTEND:20251121T153000Z
END:VEVENT
END:VCALENDAR
