BEGIN:VCALENDAR
VERSION:2.0
PRODID:SchoolNow
CALSCALE:GREGORIAN
BEGIN:VEVENT
UID:e86ca168-b85a-11f0-999d-02231b95ae21
DTSTAMP:20251103T021503Z
SUMMARY:Breakfast: Blueberry Muffins\, Sausage Links\, Juice\, Craisins\, M
 ilk
URL;VALUE=URI:https://www.ronank12.edu/departments/food-service/calendar/87
 70146/breakfast-blueberry-muffins-sausage-links-juice-craisins-milk
DTSTART:20251124T150000Z
DTEND:20251124T153000Z
END:VEVENT
END:VCALENDAR
