BEGIN:VCALENDAR
VERSION:2.0
PRODID:SchoolNow
CALSCALE:GREGORIAN
BEGIN:VEVENT
UID:0e373c1e-b85b-11f0-ace8-0a58a9feac02
DTSTAMP:20251103T021606Z
SUMMARY:Breakfast: Pancake sandwich\, Peaches\, Milk
URL;VALUE=URI:https://www.ronank12.edu/departments/food-service/calendar/87
 70147/breakfast-pancake-sandwich-peaches-milk
DTSTART:20251125T150000Z
DTEND:20251125T153000Z
END:VEVENT
END:VCALENDAR
