BEGIN:VCALENDAR
VERSION:2.0
PRODID:SchoolNow
CALSCALE:GREGORIAN
BEGIN:VEVENT
UID:3839b3b6-b85b-11f0-94ec-0a58a9feac02
DTSTAMP:20251103T021717Z
SUMMARY:Early Out-Breakfast: Donut Stick\, String Cheese\, Pears\, Milk
URL;VALUE=URI:https://www.ronank12.edu/departments/food-service/calendar/87
 70149/early-out-breakfast-donut-stick-string-cheese-pears-milk
DTSTART:20251126T150000Z
DTEND:20251126T153000Z
END:VEVENT
END:VCALENDAR
