BEGIN:VCALENDAR
VERSION:2.0
PRODID:SchoolNow
CALSCALE:GREGORIAN
BEGIN:VEVENT
UID:4c018e50-b85b-11f0-a1b4-02231b95ae21
DTSTAMP:20251103T021750Z
SUMMARY:No School
URL;VALUE=URI:https://www.ronank12.edu/departments/food-service/calendar/87
 70150/no-school
DTSTART;VALUE=DATE:20251127
DTEND;VALUE=DATE:20251128
END:VEVENT
END:VCALENDAR
