BEGIN:VCALENDAR
VERSION:2.0
PRODID:SchoolNow
CALSCALE:GREGORIAN
BEGIN:VEVENT
UID:90b5ce9e-b85b-11f0-a164-0afffa06ec9d
DTSTAMP:20251103T021945Z
SUMMARY:Lunch: Taco Soup\, String cheese\, Broccoli\, Applesauce\, Banana b
 read\, Milk
URL;VALUE=URI:https://www.ronank12.edu/departments/food-service/calendar/87
 70152/lunch-taco-soup-string-cheese-broccoli-applesauce-banana-bread-milk
DTSTART:20251105T173000Z
DTEND:20251105T193000Z
END:VEVENT
END:VCALENDAR
