BEGIN:VCALENDAR
VERSION:2.0
PRODID:SchoolNow
CALSCALE:GREGORIAN
BEGIN:VEVENT
UID:b6814c3e-b85b-11f0-be0f-0a58a9feac02
DTSTAMP:20251103T022049Z
SUMMARY:Lunch: Beef stroganoff on noodles\, Tossed salad\, apple slices\, R
 oll\, Milk
URL;VALUE=URI:https://www.ronank12.edu/departments/food-service/calendar/87
 70153/lunch-beef-stroganoff-on-noodles-tossed-salad-apple-slices-roll-milk
DTSTART:20251106T173000Z
DTEND:20251106T193000Z
END:VEVENT
END:VCALENDAR
