BEGIN:VCALENDAR
VERSION:2.0
PRODID:SchoolNow
CALSCALE:GREGORIAN
BEGIN:VEVENT
UID:eefc3510-b85b-11f0-b6a6-0afff3d351ff
DTSTAMP:20251103T022223Z
SUMMARY:Lunch: Chicken nuggets\, Macaroni & cheese\, Green beans\, Lentils\
 , Craisins\, Milk
URL;VALUE=URI:https://www.ronank12.edu/departments/food-service/calendar/87
 70154/lunch-chicken-nuggets-macaroni-cheese-green-beans-lentils-craisins-m
 ilk
DTSTART:20251107T173000Z
DTEND:20251107T193000Z
END:VEVENT
END:VCALENDAR
