BEGIN:VCALENDAR
VERSION:2.0
PRODID:SchoolNow
CALSCALE:GREGORIAN
BEGIN:VEVENT
UID:1c3a1e16-b85c-11f0-b57a-0a58a9feac02
DTSTAMP:20251103T022339Z
SUMMARY:Lunch: Corn dog\, Smile potatoes\, Green beans\, Orange wedges\, Co
 okie\, Milk
URL;VALUE=URI:https://www.ronank12.edu/departments/food-service/calendar/87
 70155/lunch-corn-dog-smile-potatoes-green-beans-orange-wedges-cookie-milk
DTSTART:20251110T173000Z
DTEND:20251110T193000Z
END:VEVENT
END:VCALENDAR
