BEGIN:VCALENDAR
VERSION:2.0
PRODID:SchoolNow
CALSCALE:GREGORIAN
BEGIN:VEVENT
UID:42899a92-b85c-11f0-90b4-0a58a9feac02
DTSTAMP:20251103T022444Z
SUMMARY:Lunch: Hamburger gravy\, Mashed potatoes\, Baby carrots\, Mandarin 
 oranges\, Roll\, Mill
URL;VALUE=URI:https://www.ronank12.edu/departments/food-service/calendar/87
 70156/lunch-hamburger-gravy-mashed-potatoes-baby-carrots-mandarin-oranges-
 roll-mill
DTSTART:20251111T173000Z
DTEND:20251111T193000Z
END:VEVENT
END:VCALENDAR
