BEGIN:VCALENDAR
VERSION:2.0
PRODID:SchoolNow
CALSCALE:GREGORIAN
BEGIN:VEVENT
UID:6500183a-b85c-11f0-ab4f-0a58a9feac02
DTSTAMP:20251103T022541Z
SUMMARY:Lunch: Cook's choice\, Broccoli\, Corn\, Pears\, Goldfish crackers\
 , Milk
URL;VALUE=URI:https://www.ronank12.edu/departments/food-service/calendar/87
 70157/lunch-cooks-choice-broccoli-corn-pears-goldfish-crackers-milk
DTSTART:20251112T173000Z
DTEND:20251112T193000Z
END:VEVENT
END:VCALENDAR
