BEGIN:VCALENDAR
VERSION:2.0
PRODID:SchoolNow
CALSCALE:GREGORIAN
BEGIN:VEVENT
UID:9adb44fc-b85c-11f0-9f09-0e33ce6fd91d
DTSTAMP:20251103T022712Z
SUMMARY:Lunch: Indian tacos\, Chili\, Fry bread\, Cheese\, Lettuce\, Salsa\
 , Apple slices\, Milk
URL;VALUE=URI:https://www.ronank12.edu/departments/food-service/calendar/87
 70158/lunch-indian-tacos-chili-fry-bread-cheese-lettuce-salsa-apple-slices
 -milk
DTSTART:20251113T173000Z
DTEND:20251113T193000Z
END:VEVENT
END:VCALENDAR
