BEGIN:VCALENDAR
VERSION:2.0
PRODID:SchoolNow
CALSCALE:GREGORIAN
BEGIN:VEVENT
UID:bc272036-b85c-11f0-80e7-0a58a9feac02
DTSTAMP:20251103T022808Z
SUMMARY:Lunch: Beef burrito\, Refried beans\, Chips\, Salsa\, Pears\, Milk
URL;VALUE=URI:https://www.ronank12.edu/departments/food-service/calendar/87
 70159/lunch-beef-burrito-refried-beans-chips-salsa-pears-milk
DTSTART:20251117T173000Z
DTEND:20251117T193000Z
END:VEVENT
END:VCALENDAR
