BEGIN:VCALENDAR
VERSION:2.0
PRODID:SchoolNow
CALSCALE:GREGORIAN
BEGIN:VEVENT
UID:ecff09d0-b85c-11f0-a2d3-0a58a9feac02
DTSTAMP:20251103T022930Z
SUMMARY:Lunch: Uncrustable\, String cheese\, Carrots\, Lentils\, Applesauce
 \, Chips\, Milk
URL;VALUE=URI:https://www.ronank12.edu/departments/food-service/calendar/87
 70160/lunch-uncrustable-string-cheese-carrots-lentils-applesauce-chips-mil
 k
DTSTART:20251118T173000Z
DTEND:20251118T193000Z
END:VEVENT
END:VCALENDAR
