BEGIN:VCALENDAR
VERSION:2.0
PRODID:SchoolNow
CALSCALE:GREGORIAN
BEGIN:VEVENT
UID:11163938-b85d-11f0-a545-0afffd3d0e61
DTSTAMP:20251103T023030Z
SUMMARY:Lunch: Homemade pepperoni pizza\, Tossed salad\, Red peppers\, Pine
 apple\, Milk
URL;VALUE=URI:https://www.ronank12.edu/departments/food-service/calendar/87
 70161/lunch-homemade-pepperoni-pizza-tossed-salad-red-peppers-pineapple-mi
 lk
DTSTART:20251119T173000Z
DTEND:20251119T193000Z
END:VEVENT
END:VCALENDAR
