BEGIN:VCALENDAR
VERSION:2.0
PRODID:SchoolNow
CALSCALE:GREGORIAN
BEGIN:VEVENT
UID:3c066712-b85d-11f0-8bfa-0a58a9feac02
DTSTAMP:20251103T023142Z
SUMMARY:Lunch: Turkey gravy\, Mashed potatoes\, Craisins\, Pumpkin bar\, Ro
 ll\, Milk
URL;VALUE=URI:https://www.ronank12.edu/departments/food-service/calendar/87
 70162/lunch-turkey-gravy-mashed-potatoes-craisins-pumpkin-bar-roll-milk
DTSTART:20251120T173000Z
DTEND:20251120T193000Z
END:VEVENT
END:VCALENDAR
