BEGIN:VCALENDAR
VERSION:2.0
PRODID:SchoolNow
CALSCALE:GREGORIAN
BEGIN:VEVENT
UID:5aa38376-b85d-11f0-8676-0a58a9feac02
DTSTAMP:20251119T192524Z
SUMMARY:Lunch: Chicken Quesadilla\, Broccoli\, Corn\, Peaches\, Milk
URL;VALUE=URI:https://www.ronank12.edu/departments/food-service/calendar/87
 70163/lunch-pepperoni-hot-pocket-broccoli-corn-peaches-milk
DTSTART:20251121T173000Z
DTEND:20251121T193000Z
END:VEVENT
END:VCALENDAR
