BEGIN:VCALENDAR
VERSION:2.0
PRODID:SchoolNow
CALSCALE:GREGORIAN
BEGIN:VEVENT
UID:878008f6-b85d-11f0-bd94-027347f9d4e7
DTSTAMP:20251103T023349Z
SUMMARY:Lunch: Teriyaki chicken on rice\, Carrots\, Broccoli\, Mandarin ora
 nges\, Milk
URL;VALUE=URI:https://www.ronank12.edu/departments/food-service/calendar/87
 70164/lunch-teriyaki-chicken-on-rice-carrots-broccoli-mandarin-oranges-mil
 k
DTSTART:20251124T173000Z
DTEND:20251124T193000Z
END:VEVENT
END:VCALENDAR
