BEGIN:VCALENDAR
VERSION:2.0
PRODID:SchoolNow
CALSCALE:GREGORIAN
BEGIN:VEVENT
UID:b77d2944-b85d-11f0-8631-0affd2424ac3
DTSTAMP:20251103T023509Z
SUMMARY:Lunch: Beef taco on a flour tortilla\, Cheese\, Lettuce\, Orange sl
 ices\, Roll\, Milk
URL;VALUE=URI:https://www.ronank12.edu/departments/food-service/calendar/87
 70165/lunch-beef-taco-on-a-flour-tortilla-cheese-lettuce-orange-slices-rol
 l-milk
DTSTART:20251125T173000Z
DTEND:20251125T193000Z
END:VEVENT
END:VCALENDAR
