BEGIN:VCALENDAR
VERSION:2.0
PRODID:SchoolNow
CALSCALE:GREGORIAN
BEGIN:VEVENT
UID:f1d00e68-b85d-11f0-8147-02231b95ae21
DTSTAMP:20251103T023647Z
SUMMARY:Lunch: Early Out Hot Ham & cheese sandwich\, Smile potatoes\, Lenti
 ls\, Applesauce\, Milk
URL;VALUE=URI:https://www.ronank12.edu/departments/food-service/calendar/87
 70166/lunch-early-out-hot-ham-cheese-sandwich-smile-potatoes-lentils-apple
 sauce-milk
DTSTART:20251126T173000Z
DTEND:20251126T193000Z
END:VEVENT
END:VCALENDAR
