BEGIN:VCALENDAR
VERSION:2.0
PRODID:SchoolNow
CALSCALE:GREGORIAN
BEGIN:VEVENT
UID:7f4a2fdc-ca59-11f0-9609-0e23de79efab
DTSTAMP:20251125T235018Z
SUMMARY:Cold Cereal\, Chocolate Muffin\, Juice\, Banana Chips\, Milk
URL;VALUE=URI:https://www.ronank12.edu/departments/food-service/calendar/88
 09957/cold-cereal-chocolate-muffin-juice-banana-chips-milk
DTSTART:20251201T150000Z
DTEND:20251201T153000Z
END:VEVENT
END:VCALENDAR
