BEGIN:VCALENDAR
VERSION:2.0
PRODID:SchoolNow
CALSCALE:GREGORIAN
BEGIN:VEVENT
UID:cfcf802e-ca59-11f0-b6b2-02343ccddbd9
DTSTAMP:20251126T172320Z
SUMMARY:Pancake on a Stick\, Peaches\, Milk
URL;VALUE=URI:https://www.ronank12.edu/departments/food-service/calendar/88
 09958/pancake-on-a-stick-peaches-milk
DTSTART:20251202T150000Z
DTEND:20251202T153000Z
END:VEVENT
END:VCALENDAR
