BEGIN:VCALENDAR
VERSION:2.0
PRODID:SchoolNow
CALSCALE:GREGORIAN
BEGIN:VEVENT
UID:f3689da4-ca59-11f0-922d-02af76d80f6f
DTSTAMP:20251125T235333Z
SUMMARY:Scrambled Eggs\, Toast\, Juice\, Craisins\, Milk
URL;VALUE=URI:https://www.ronank12.edu/departments/food-service/calendar/88
 09959/scrambled-eggs-toast-juice-craisins-milk
DTSTART:20251203T150000Z
DTEND:20251203T153000Z
END:VEVENT
END:VCALENDAR
