BEGIN:VCALENDAR
VERSION:2.0
PRODID:SchoolNow
CALSCALE:GREGORIAN
BEGIN:VEVENT
UID:0e1c303e-ca5a-11f0-b85d-0a58a9feac02
DTSTAMP:20251125T235418Z
SUMMARY:Sausage Muffin Sandwich Or Cold Cereal\, Mixed Fruit\, Milk
URL;VALUE=URI:https://www.ronank12.edu/departments/food-service/calendar/88
 09960/sausage-muffin-sandwich-or-cold-cereal-mixed-fruit-milk
DTSTART:20251204T150000Z
DTEND:20251204T153000Z
END:VEVENT
END:VCALENDAR
